BEGIN:VCALENDAR
VERSION:2.0
PRODID:-//willseaobrien | glass - ECPv6.15.20//NONSGML v1.0//EN
CALSCALE:GREGORIAN
METHOD:PUBLISH
X-ORIGINAL-URL:https://willseaobrien.com
X-WR-CALDESC:Events for willseaobrien | glass
REFRESH-INTERVAL;VALUE=DURATION:PT1H
X-Robots-Tag:noindex
X-PUBLISHED-TTL:PT1H
BEGIN:VTIMEZONE
TZID:UTC
BEGIN:STANDARD
TZOFFSETFROM:+0000
TZOFFSETTO:+0000
TZNAME:UTC
DTSTART:20220101T000000
END:STANDARD
END:VTIMEZONE
BEGIN:VEVENT
DTSTART;VALUE=DATE:20241019
DTEND;VALUE=DATE:20241021
DTSTAMP:20260423T182636
CREATED:20240910T134553Z
LAST-MODIFIED:20240910T134553Z
UID:616-1729296000-1729468799@willseaobrien.com
SUMMARY:RiverArtsFest
DESCRIPTION:RiverArtsFest is a celebration of fine arts and fine local music with live artist demonstrations and hands-on art activities for all ages!\nMore than 150 artists from around the country and right here in Memphis gather to exhibit and sell their latest works of original fine arts in what’s become the largest juried artist market and urban festival in the Mid-South.
URL:https://willseaobrien.com/event/riverartsfest/
END:VEVENT
BEGIN:VEVENT
DTSTART;VALUE=DATE:20241011
DTEND;VALUE=DATE:20241014
DTSTAMP:20260423T182636
CREATED:20240910T134222Z
LAST-MODIFIED:20240910T134222Z
UID:614-1728604800-1728863999@willseaobrien.com
SUMMARY:Bayou City Art Festival Memorial
DESCRIPTION:The Art Colony Association is proud to announce Ash Beheshti as the Bayou City Art Festival Memorial Park 2024 Featured Artist! Ash is a mixed-media artist from Los Angeles. As a visual storyteller\, Beheshti voices his stories through his figurative collages that celebrate the female form and portray women in a strong\, positive\, and inspirational light. 
URL:https://willseaobrien.com/event/bayou-city-art-festival-memorial/
END:VEVENT
BEGIN:VEVENT
DTSTART;VALUE=DATE:20240920
DTEND;VALUE=DATE:20240923
DTSTAMP:20260423T182636
CREATED:20240910T134009Z
LAST-MODIFIED:20240910T134009Z
UID:612-1726790400-1727049599@willseaobrien.com
SUMMARY:Plaza Art Fair
DESCRIPTION:THE 93rd ANNUAL PLAZA ART FAIR\nHeld Friday\, September 20\, 2024 through Sunday\, September 22\, 2024\, the Plaza Art Fair encompasses nine city blocks and welcomes a crowd of over 250\,000. Featuring 240 artists\, the Plaza Art Fair is a top-ranked\, national art event with three live music stages and over 20 featured restaurant booths. It continues to be a weekend of people simply celebrating art and each other\, as well as Kansas City’s unofficial welcome to the fall season. \nFriday\, 9/20/24: 5 pm — 10 pm\nSaturday\, 9/21/24: 10 am — 10 pm\nSunday\, 9/22/24: 11 am — 5 pm
URL:https://willseaobrien.com/event/plaza-art-fair/
END:VEVENT
BEGIN:VEVENT
DTSTART;VALUE=DATE:20240531
DTEND;VALUE=DATE:20240603
DTSTAMP:20260423T182636
CREATED:20240423T235957Z
LAST-MODIFIED:20240423T235957Z
UID:579-1717113600-1717372799@willseaobrien.com
SUMMARY:Cincinnati Summer Fair
DESCRIPTION:For more than 50 years\, Summerfair has been dedicated to supporting visual and performing arts in Greater Cincinnati. \nDuring our annual\, three-day fine arts fair\, enough funds are raised to support awards\, scholarships and exhibitions.
URL:https://willseaobrien.com/event/cincinnati-summer-fair/
ATTACH;FMTTYPE=image/jpeg:https://willseaobrien.com/wp-content/uploads/2024/04/blohqnkcezg.jpg
END:VEVENT
BEGIN:VEVENT
DTSTART;VALUE=DATE:20240518
DTEND;VALUE=DATE:20240520
DTSTAMP:20260423T182636
CREATED:20240423T235705Z
LAST-MODIFIED:20240423T235742Z
UID:577-1715990400-1716163199@willseaobrien.com
SUMMARY:East Lansing Art Festival
DESCRIPTION:Art for All\n\n\n\n\n\n\n\n\n\n\nThe East Lansing Art Festival is proud to continue its 61 year tradition of bringing high quality art to the streets of East Lansing. \nThe East Lansing Art Festival’s mission is to enhance the sense of community and appreciation of art\, culture and creativity in East Lansing and the greater Lansing region.
URL:https://willseaobrien.com/event/east-lansing-art-festival/
ATTACH;FMTTYPE=image/jpeg:https://willseaobrien.com/wp-content/uploads/2023/01/Primrose_RedWallGroup2.jpeg
END:VEVENT
BEGIN:VEVENT
DTSTART;VALUE=DATE:20240503
DTEND;VALUE=DATE:20240506
DTSTAMP:20260423T182636
CREATED:20240423T235141Z
LAST-MODIFIED:20240423T235210Z
UID:573-1714694400-1714953599@willseaobrien.com
SUMMARY:Brookside Art Annual
DESCRIPTION:SAVE THE DATE – THE BROOKSIDE ART ANNUAL IS MAY 3-5\, 2024\nYou don’t want to miss the 2024 Brookside Art Annual! The 38th Anniversary show starts Friday\, May 3rd at 5 pm and runs through Sunday\, May 5th at 5 pm. The show is Kansas City’s first outdoor art show of the year\, attracts top artists\, is a favorite for many buyers and arts enthusiasts and is ranked amongst the best in the nation each year. \nLocated in an eclectic neighborhood in the center of Kansas City\, the historic Brookside Shops are just minutes from downtown\, the Plaza\, and the metro suburbs. Although we have a variety of activities\, our focus at the show is ART! The show brings top artists from around the country and consistently ranks in the top twenty-five shows according to Art Source. \n2024 Show Hours: \n\nFri\, May 3rd\, 5pm-9pm\nSat\, May 4th\, 10am-9pm\nSun\, May 5th\, 11am-5pm\n\nThe show is located at 63rd and Brookside Boulevard (one block east of Wornall) between 63rd Street and Meyer Boulevard. \nWe look forward to seeing you at the Brookside Art Annual in 2024!
URL:https://willseaobrien.com/event/brookside-art-annual/
ATTACH;FMTTYPE=image/jpeg:https://willseaobrien.com/wp-content/uploads/2023/01/1412610_691426897557636_452703119_ocopy.jpg
END:VEVENT
BEGIN:VEVENT
DTSTART;VALUE=DATE:20240425
DTEND;VALUE=DATE:20240429
DTSTAMP:20260423T182636
CREATED:20240423T234645Z
LAST-MODIFIED:20240423T235412Z
UID:570-1714003200-1714348799@willseaobrien.com
SUMMARY:New Orleans Jazz Fest
DESCRIPTION:NEW ORLEANS JAZZ & HERITAGE FESTIVAL\n\nApril 25\, 2024 – May 5\, 2024\nRecurring weekly on Sunday\, Thursday\, Friday\, Saturday \n\n\nLOCATION:Fair Grounds Race Course and Slots\, A Churchill Downs Co.\n1751 Gentilly Blvd.\, New Orleans\, LA 70119 [Map/Directions]\nNEIGHBORHOOD:Esplanade Ridge\, Gentilly/New Orleans East/Chalmette/9th Ward\nEVENT HOST:New Orleans Jazz & Heritage Festival & Foundation\, Inc.\nADMISSION PRICE:Prices vary\nMORE INFO:(504) 410-4100 • Visit Event Website
URL:https://willseaobrien.com/event/new-orleans-jazz-fest/
ATTACH;FMTTYPE=image/jpeg:https://willseaobrien.com/wp-content/uploads/2024/04/dbwvuqboou8.jpg
END:VEVENT
BEGIN:VEVENT
DTSTART;VALUE=DATE:20240323
DTEND;VALUE=DATE:20240325
DTSTAMP:20260423T182636
CREATED:20231215T184839Z
LAST-MODIFIED:20240423T235320Z
UID:562-1711152000-1711324799@willseaobrien.com
SUMMARY:Naples Downtown Art Fair
DESCRIPTION:
URL:https://willseaobrien.com/event/naples-downtown-art-fair/
LOCATION:Naples Downtown Art Fair\, 585 Park Street Naples\, FL 34102
END:VEVENT
BEGIN:VEVENT
DTSTART;VALUE=DATE:20240315
DTEND;VALUE=DATE:20240318
DTSTAMP:20260423T182636
CREATED:20231215T184645Z
LAST-MODIFIED:20240423T235328Z
UID:559-1710460800-1710719999@willseaobrien.com
SUMMARY:Winter Park Sidewalk Arts Festival
DESCRIPTION:https://www.wpsaf.org/
URL:https://willseaobrien.com/event/winter-park-sidewalk-arts-festival/
LOCATION:Winter Park Sidewalk Arts Festival\, 328 N Park Ave\, Winter Park\, FL 32789
END:VEVENT
BEGIN:VEVENT
DTSTART;VALUE=DATE:20240309
DTEND;VALUE=DATE:20240311
DTSTAMP:20260423T182636
CREATED:20231215T184457Z
LAST-MODIFIED:20240423T235333Z
UID:557-1709942400-1710115199@willseaobrien.com
SUMMARY:Lakewood Ranch Art Fair
DESCRIPTION:https://lakewoodranch.com/event/lakewood-ranch-fine-art-festival/
URL:https://willseaobrien.com/event/lakewood-ranch-art-fair/
LOCATION:Lakewood Ranch Winter Fine Art Festival\, 8100 Lakewood Ranch Blvd\, Bradenton\, FL\, 34202\, United States
END:VEVENT
BEGIN:VEVENT
DTSTART;VALUE=DATE:20240223
DTEND;VALUE=DATE:20240226
DTSTAMP:20260423T182636
CREATED:20231215T184058Z
LAST-MODIFIED:20240423T235338Z
UID:552-1708646400-1708905599@willseaobrien.com
SUMMARY:Naples National Art Fair
DESCRIPTION:https://www.paradisecoast.com/de/event/national-art-fair-cambier-park/8250
URL:https://willseaobrien.com/event/naples-national-art-fair/
LOCATION:Naples National Art Fair\, 755 8th Ave S\, Naples\, 34102\, United States
END:VEVENT
BEGIN:VEVENT
DTSTART;VALUE=DATE:20240217
DTEND;VALUE=DATE:20240219
DTSTAMP:20260423T182636
CREATED:20231215T183932Z
LAST-MODIFIED:20240423T235344Z
UID:550-1708128000-1708300799@willseaobrien.com
SUMMARY:Coconut Point Art Fair
DESCRIPTION:https://www.artfestival.com/festivals/coconut-point-art-festival-0
URL:https://willseaobrien.com/event/coconut-point-art-fair/
LOCATION:Coconut Point Art Festival\, 23106 Fashion Dr\, Estero\, FL\, 33928\, United States
END:VEVENT
BEGIN:VEVENT
DTSTART;VALUE=DATE:20240210
DTEND;VALUE=DATE:20240212
DTSTAMP:20260423T182636
CREATED:20231215T183803Z
LAST-MODIFIED:20231215T183803Z
UID:547-1707523200-1707695999@willseaobrien.com
SUMMARY:Downtown Sarasota Art Festival
DESCRIPTION:https://www.artfestival.com/festivals/downtown-sarasota-festival-arts
URL:https://willseaobrien.com/event/downtown-sarasota-art-festival/
LOCATION:Downtown Sarasota Art Festival\, 1718 Main Street in Sarasota\, FL
END:VEVENT
BEGIN:VEVENT
DTSTART;VALUE=DATE:20240203
DTEND;VALUE=DATE:20240205
DTSTAMP:20260423T182636
CREATED:20231215T183425Z
LAST-MODIFIED:20231215T183425Z
UID:543-1706918400-1707091199@willseaobrien.com
SUMMARY:Mount Dora Arts Festival
DESCRIPTION:https://mountdoraart.com/
URL:https://willseaobrien.com/event/mount-dora-arts-festival/
LOCATION:Mount Dora Arts Festival\, 138 E 5th Ave B\, Mt Dora\, FL 32757
END:VEVENT
BEGIN:VEVENT
DTSTART;VALUE=DATE:20240127
DTEND;VALUE=DATE:20240129
DTSTAMP:20260423T182636
CREATED:20231215T183147Z
LAST-MODIFIED:20231215T183241Z
UID:541-1706313600-1706486399@willseaobrien.com
SUMMARY:St. Armand’s Circle Art Fair
DESCRIPTION:https://allevents.in/sarasota/21st-annual-st-armands-circle-art-festival/200025907154008
URL:https://willseaobrien.com/event/st-armands-circle-art-fair-2/
LOCATION:St. Armands Circle Art Festival\, 411 St. Armands Circle\, Sarasota\, FL\, 34236\, United States
END:VEVENT
BEGIN:VEVENT
DTSTART;VALUE=DATE:20240120
DTEND;VALUE=DATE:20240122
DTSTAMP:20260423T182636
CREATED:20231215T182857Z
LAST-MODIFIED:20231215T182857Z
UID:539-1705708800-1705881599@willseaobrien.com
SUMMARY:ArtFest Naples
DESCRIPTION:https://www.artfestnaples.com/
URL:https://willseaobrien.com/event/artfest-naples-2/
LOCATION:Artfest Naples\, 1600 Fleischmann Blvd\, Naples\, FL\, 34102\, United States
END:VEVENT
BEGIN:VEVENT
DTSTART;VALUE=DATE:20240113
DTEND;VALUE=DATE:20240115
DTSTAMP:20260423T182636
CREATED:20231215T182653Z
LAST-MODIFIED:20231215T182653Z
UID:531-1705104000-1705276799@willseaobrien.com
SUMMARY:Bonita Springs Art Fair
DESCRIPTION:https://artcenterbonita.org/artfest/
URL:https://willseaobrien.com/event/bonita-springs-art-fair/
LOCATION:Bonita Springs Art Fair\, 10450 Reynolds St\, Bonita Springs\, Florida\, United States
END:VEVENT
BEGIN:VEVENT
DTSTART;VALUE=DATE:20240106
DTEND;VALUE=DATE:20240108
DTSTAMP:20260423T182636
CREATED:20231215T181955Z
LAST-MODIFIED:20231215T182330Z
UID:527-1704499200-1704671999@willseaobrien.com
SUMMARY:Naples New Year’s Art Fair
DESCRIPTION:https://www.naplesgov.com/parksrec/page/naples-new-years-art-fair \n 
URL:https://willseaobrien.com/event/naples-new-years-art-fair/
LOCATION:Naples New Year’s Art Fair\, 585 Park St\, Naples\, FL\, United States
END:VEVENT
BEGIN:VEVENT
DTSTART;TZID=UTC:20231215T080000
DTEND;TZID=UTC:20231215T170000
DTSTAMP:20260423T182636
CREATED:20231215T184315Z
LAST-MODIFIED:20231215T184315Z
UID:554-1702627200-1702659600@willseaobrien.com
SUMMARY:Gasparilla Art Fair
DESCRIPTION:https://gasparillaarts.com/
URL:https://willseaobrien.com/event/gasparilla-art-fair/
LOCATION:Gasparilla Art Fair\, PO Box 10591 Tampa\, FL 33679
END:VEVENT
BEGIN:VEVENT
DTSTART;TZID=UTC:20230325T080000
DTEND;TZID=UTC:20230326T170000
DTSTAMP:20260423T182636
CREATED:20230117T154453Z
LAST-MODIFIED:20230117T154453Z
UID:459-1679731200-1679850000@willseaobrien.com
SUMMARY:Naples Art Institute Downtown Art Fair
DESCRIPTION:Location: 5th Avenue South\, Naples\, FL\nTime: 10 a.m. – 5 p.m.\nAdmission: Free
URL:https://willseaobrien.com/event/naples-art-institute-downtown-art-fair/
LOCATION:Naples Art Institute Downtown Art Fair\, 5th Avenue South\, Naples\, FL\, 34102\, United States
END:VEVENT
BEGIN:VEVENT
DTSTART;TZID=UTC:20230318T100000
DTEND;TZID=UTC:20230319T170000
DTSTAMP:20260423T182636
CREATED:20230117T154137Z
LAST-MODIFIED:20230117T154137Z
UID:456-1679133600-1679245200@willseaobrien.com
SUMMARY:The Downtown Sarasota Fine Art and Craft Fair
DESCRIPTION:Howard Alan Events is proud to announce a second fine art fair this season on Downtown Sarasota’s Main Street! The festival will be set up in the same location as the February Art Festival known as “THE BIG ONE.”  Covering more than five city blocks in Downtown Sarasota\, artists and crafters will line Main Street from Orange Avenue and to Links Avenue. The overwhelming success of the February Festival each year led to the decision of adding another date in this location. The festival will also feature a craft/green market area. Crafters should choose “craft section” under zapp application to apply. Proceeds benefit the Downtown Sarasota Alliance. The show is currently closed to the jewelry category. All jewelry applications will be juried for wait list only.
URL:https://willseaobrien.com/event/sarasota-art-fair/
LOCATION:The Downtown Sarasota Fine Art and Craft Fair\, 1718 Main Street\, Sarasota\, FL\, 34236\, United States
END:VEVENT
BEGIN:VEVENT
DTSTART;TZID=UTC:20230311T100000
DTEND;TZID=UTC:20230312T170000
DTSTAMP:20260423T182636
CREATED:20230117T153704Z
LAST-MODIFIED:20230117T153737Z
UID:452-1678528800-1678640400@willseaobrien.com
SUMMARY:Lakewood Ranch Winter Fine Art Festival
DESCRIPTION:Lakewood Ranch Winter Fine Art Festival\n Admission: Free\n\nCome enjoy browsing and purchasing fine arts and crafts from a fascinating and diverse palette of original\, handmade arts\, crafts and specialty products by artisans from across America at the Lakewood Ranch Winter Fine Art Festival on March 11-12\, 2023 on Main Street in downtown Lakewood Ranch\, FL. \nIncluded in the palette of art are pieces created in painting\, sculpting\, jewelry\, photography\, candles\, scented oils\, ceramics\, fiber and wearable art\, mixed-media\, woodworking and much more. Meet the artisans creating the works and if you don’t find exactly what you want – commission a piece from the artist that will be made just for you! \nHours are Saturday and Sunday from 10am-5pm with free admission. Bring your sense of discovery and appreciation of the beautiful as you explore the beauty of how people create and what your sensibilities like! We learn in life that art inspires and touches our souls\, on a daily basis\, in ways we often cannot comprehend. Come experience that yourself! \nParagon: Always original\, always quality\, always boutique!
URL:https://willseaobrien.com/event/lakewood-ranch-winter-fine-art-festival/
LOCATION:Lakewood Ranch Winter Fine Art Festival\, 8100 Lakewood Ranch Blvd\, Bradenton\, FL\, 34202\, United States
END:VEVENT
BEGIN:VEVENT
DTSTART;TZID=UTC:20230304T100000
DTEND;TZID=UTC:20230305T170000
DTSTAMP:20260423T182636
CREATED:20230117T153307Z
LAST-MODIFIED:20230117T153307Z
UID:449-1677924000-1678035600@willseaobrien.com
SUMMARY:Bonita Springs National Art Festivals
DESCRIPTION:A history of 54 Quality Festivals in Bonita Springs\, The Centers for the Arts Bonita Springs presents three fine arts / fine crafts festivals each year in Bonita Springs. Enjoy the artworks of 200 National and International artists while supporting the many programs of the Centers for the Arts. \nRated one of the top Fine Art Festivals in the USA Juried events; artists selected by a panel of experts\, Festival proceeds support community art activities\, largest attendance of any event in the area. \nOur commitment to presenting quality artwork and a pleasant experience to the patrons has resulted in the highest ratings by the National ranking services. View and buy artworks directly from the artists who produce the work.
URL:https://willseaobrien.com/event/bonita-springs-national-art-festivals/
LOCATION:Bonita Springs National Art Festivals\, 10450 Reynolds St\, Bonita Springs\, 34135\, United States
END:VEVENT
BEGIN:VEVENT
DTSTART;TZID=UTC:20230225T100000
DTEND;TZID=UTC:20230226T170000
DTSTAMP:20260423T182636
CREATED:20230117T152911Z
LAST-MODIFIED:20230221T143921Z
UID:445-1677319200-1677430800@willseaobrien.com
SUMMARY:Spring Sarasota Art Festival Gulf Stream Avenue
DESCRIPTION:Looking ahead for fun things to do? Please put us on your “To Do” list on February 25-26\, 2023 in JD Hamel Park: the premiere of the Sarasota Festival of the Arts. The event will showcase the original works of artisans and crafters from throughout Florida and across the United States. The event is graciously hosted by the Downtown Sarasota Enrichment Association. \nOver 70 artisans will showcase their art\, in the process creating an outdoor gallery of spectacular painting\, sculpture\, jewelry\, photography\, glass\, ceramics\, fiber and wearable art\, mixed-media\, metalwork\, graphics\, woodworking and more. Explore a diversity of styles\, techniques and materials guided by the unique and compelling visions of each artisan. Discuss with the artists how they create and become inspired. Explore commissioning a unique piece of art made specifically for you! \nThe Sarasota Festival of the Arts is open 10am-5pm both Saturday and Sunday. Admission is FREE! Immerse yourself in the visual experience as your sensibilities and appreciation for beauty guide you!
URL:https://willseaobrien.com/event/sarasota-festival-of-the-arts/
LOCATION:Sarasota Festival of the Arts\, 199 Bayfront Dr\, Sarasota\, FL\, 34236
END:VEVENT
BEGIN:VEVENT
DTSTART;TZID=UTC:20230218T100000
DTEND;TZID=UTC:20230219T170000
DTSTAMP:20260423T182636
CREATED:20230117T152222Z
LAST-MODIFIED:20230117T154644Z
UID:442-1676714400-1676826000@willseaobrien.com
SUMMARY:Coconut Point Art Festival
DESCRIPTION:The Big One! The popular destination of Coconut Point will transform into an artists’ mecca during the 17th Annual Coconut Point Art Festival. Festival-goers are invited to stroll amidst life-size sculptures\, spectacular paintings\, one-of-a-kind jewels\, photography\, ceramics and more from the 200+ exhibitors from 10 am to 5 pm both days. The prestigious showcase offers the chance to see the masters at work and discover the inspiration and process behind every piece. Coconut Point is a visually stunning community surrounded by several acres of lakes and boardwalks. Coconut Point is the place for people to shop\, dine\, work\, gather and live with over 100 stores and 25 restaurants.
URL:https://willseaobrien.com/event/coconut-point-art-festival/
LOCATION:Coconut Point Art Festival\, 23106 Fashion Dr\, Estero\, FL\, 33928\, United States
END:VEVENT
BEGIN:VEVENT
DTSTART;TZID=UTC:20230211T100000
DTEND;TZID=UTC:20230212T170000
DTSTAMP:20260423T182636
CREATED:20230117T142755Z
LAST-MODIFIED:20230117T151839Z
UID:428-1676109600-1676221200@willseaobrien.com
SUMMARY:Downtown Sarasota Festival of the Arts
DESCRIPTION:The Big One! Downtown Sarasota’s Main Street sees numerous events\, fairs\, festivals and fundraisers each year. Few\, however\, could boast the tenure or the stature of the Sarasota Festival of the Arts. The Festival will fill Main Street starting at Orange Avenue and heading east to Links Avenue. The overwhelming success of the Festival each year led to expanding and covering more than five city blocks with over 200 national and regional artists. The high level of artistic quality\, the accessibility of the free\, outdoor festival and the diversity of art has led to the Festival of the Arts’ consecutive rankings among the top 100 art festivals in the nation\, according to Sunshine Artist Magazine. Residents and visitors are invited to stroll amidst life-size sculptures\, spectacular paintings\, one-of-a-kind jewels\, photography\, ceramics and more from the 200 artists who are on site to discuss their inspirations and processes for each hand-made work. Parking is free and pets on leashes are always welcomed. Proceeds from the Downtown Sarasota Festival of the Arts benefits the Downtown Sarasota Alliance.
URL:https://willseaobrien.com/event/downtown-sarasota-festival-of-the-arts/
LOCATION:Downtown Sarasota Festival of the Arts\, 1718 Main Street\, Sarasota\, FL\, 34236\, United States
END:VEVENT
BEGIN:VEVENT
DTSTART;TZID=UTC:20230128T100000
DTEND;TZID=UTC:20230129T170000
DTSTAMP:20260423T182636
CREATED:20230117T141712Z
LAST-MODIFIED:20230117T154607Z
UID:423-1674900000-1675011600@willseaobrien.com
SUMMARY:St. Armands Circle Art Fair
DESCRIPTION:St. Armand’s Circle will once again come alive with gallery-style booths filled with every medium of fine art during the 19th Annual St. Armand’s Circle Art Festival. The popular free\, outdoor event takes place along South Boulevard of Presidents and inside St. Armand’s Circle. National and local artists are set to display their fine works in a prestigious show encompassing life-sized sculpture\, fine jewelry\, striking works of art and hand-crafted apparel and decor. Whether your passions run to sparkling jewels and one of a kind paintings; exquisitely crafted glasswork or an art deco sculpture\, you are sure to find it during the free\, two-day event.
URL:https://willseaobrien.com/event/st-armands-circle-art-fair/
LOCATION:St. Armands Circle Art Festival\, 411 St. Armands Circle\, Sarasota\, FL\, 34236\, United States
END:VEVENT
BEGIN:VEVENT
DTSTART;VALUE=DATE:20230121
DTEND;VALUE=DATE:20230123
DTSTAMP:20260423T182636
CREATED:20230117T141045Z
LAST-MODIFIED:20230117T154543Z
UID:419-1674259200-1674431999@willseaobrien.com
SUMMARY:Artfest Naples
DESCRIPTION:Art Fest Naples Invitational at Fleischmann Park has a history of supporting fine arts and fine crafts for 25 years!\n\n By showcasing artists who exhibit their original hand-crafted work\, the community as well as visitors from other states have an opportunity to meet these creative folks and learn about their processes.  And purchase beautiful and meaningful works of art! Our other goal is to contribute a portion of net proceeds to a local Naples charity.  
URL:https://willseaobrien.com/event/artfest-naples/
LOCATION:Artfest Naples\, 1600 Fleischmann Blvd\, Naples\, FL\, 34102\, United States
END:VEVENT
END:VCALENDAR